BEGIN:VCALENDAR
VERSION:2.0
PRODID:-//springmaus-theater//springmaus-theater.de//DE
CALSCALE:GREGORIAN
BEGIN:VEVENT
DTSTART:20261024T200000
LOCATION:Haus der Springmaus
DTSTAMP:20260421T052227
SUMMARY:Moritz Netenjakob - 24.10.2026, Haus der Springmaus, Bonn
URL;VALUE=URI:https://www.springmaus-theater.de/events/event-detail.html?eventId=1430
UID:20260421T052227-20261024T200000
END:VEVENT
END:VCALENDAR